BEGIN:VCALENDAR
PRODID:-//Veranstaltung//EN
VERSION:2.0
CALSCALE:GREGORIAN
BEGIN:VEVENT
DTSTART;VALUE=DATE-TIME:20250227T083000
DTEND;VALUE=DATE-TIME:20250227T110000
SUMMARY:Canada, Asia-Pacific and Europe: The world economy moving forward
LOCATION:
DESCRIPTION:
UID:
END:VEVENT
END:VCALENDAR