BEGIN:VCALENDAR
PRODID:-//Veranstaltung//EN
VERSION:2.0
CALSCALE:GREGORIAN
BEGIN:VEVENT
DTSTART;VALUE=DATE-TIME:20250128T090000
DTEND;VALUE=DATE-TIME:20250128T130000
SUMMARY:Taller sobre transparencia y financiamiento político
LOCATION:
DESCRIPTION:La Fundación Konrad Adenauer (KAS Ecuador) junto con la Fundación Ciudadanía y Desarrollo (FCD) el pasado 28 de enero de 2025, llevaron a cabo un taller dirigido a periodistas y estudiantes de comunicación, denominado: “¿Quién paga la campaña? Comprendiendo el sistema de financiamiento de la política en Ecuador”, en el marco de la contienda electoral 2025, para presidente, vicepresidente y Asamblea Nacional del Ecuador.
UID:
END:VEVENT
END:VCALENDAR