BEGIN:VCALENDAR
PRODID:-//Veranstaltung//EN
VERSION:2.0
CALSCALE:GREGORIAN
BEGIN:VEVENT
DTSTART;VALUE=DATE-TIME:20250205T100000
DTEND;VALUE=DATE-TIME:20250205T130000
SUMMARY:¿Qué Poder Judicial necesita Jalisco?
LOCATION:
DESCRIPTION:La Fundación Konrad Adenauer (KAS) en México en colaboración con la Universidad Jesuita de Guadalajara (ITESO) y la organización Juicio Justo, llevaremos a cabo el foro "¿Qué Poder Judicial necesita Jalisco?".
UID:
END:VEVENT
END:VCALENDAR