BEGIN:VCALENDAR
PRODID:-//Veranstaltung//EN
VERSION:2.0
CALSCALE:GREGORIAN
BEGIN:VEVENT
DTSTART;VALUE=DATE-TIME:20250308T110000
DTEND;VALUE=DATE-TIME:20250308T123000
SUMMARY:Standort Deutschland – Wie erneuern wir unsere Wirtschaftskraft?
LOCATION:Neuss
DESCRIPTION:Der Motor der deutschen Wirtschaft stottert. Das muss sich wieder ändern. Vieles hängt von der Wirtschaftskraft unseres Landes ab: Ob es um die Sicherung guter Arbeits- und Ausbildungsplätze geht, die Verlässlichkeit unserer Sozialsysteme und die Zukunftschancen kommender Generationen.
UID:
END:VEVENT
END:VCALENDAR