BEGIN:VCALENDAR
PRODID:-//Veranstaltung//EN
VERSION:2.0
CALSCALE:GREGORIAN
BEGIN:VEVENT
DTSTART;VALUE=DATE-TIME:20250312T090000
DTEND;VALUE=DATE-TIME:20250312T110000
SUMMARY:From Germany to Canada - Elections in 2025
LOCATION:
DESCRIPTION:Get ready for another round table event with KAS Canada!

Right after the elections in Germany, and potential elections in Canada, KAS Canada Office will discuss what is next for the elections and its aftermath results moving forward. The round table will include researchers, experts, attachés and further guests on the topic. 

Please note that this event is by private invitation only, and there are limited seats. 
UID:
END:VEVENT
END:VCALENDAR