BEGIN:VCALENDAR
PRODID:-//Veranstaltung//EN
VERSION:2.0
CALSCALE:GREGORIAN
BEGIN:VEVENT
DTSTART;VALUE=DATE-TIME:20250224T000000
DTEND;VALUE=DATE-TIME:20250226T235959
SUMMARY:6th MENA ENVIRONMENTAL LAW AND POLICY SCHOLARS’ CONFERENCE
LOCATION:
DESCRIPTION:The Konrad-Adenauer-Stiftung (KAS) Rule of Law Programme Middle East and North Africa, in partnership with the Association of Environmental Law Lecturers in MENA Universities (ASSELLMU) and the Faculty of Law at Arab East Colleges, with the support of the United Nations Environment Programme (UNEP), the United Nations Development Programme (UNDP), and SADER Legal Publishing, and in collaboration with the UNESCO Chair on Environmental Law at Hamad Bin Khalifa University, Qatar, is pleased to announce the 6th MENA Environmental Law and Policy Scholars’ Conference under the theme “Water Security and Environmental Law in the MENA Region.”

The conference will take place from February 24 to 26, 2025, in Riyadh, Saudi Arabia.
UID:
END:VEVENT
END:VCALENDAR