BEGIN:VCALENDAR
PRODID:-//Veranstaltung//EN
VERSION:2.0
CALSCALE:GREGORIAN
BEGIN:VEVENT
DTSTART;VALUE=DATE-TIME:20250527T000000
DTEND;VALUE=DATE-TIME:20250530T235959
SUMMARY:Europäische Sicherheit aus deutscher und französischer Perspektive
LOCATION:Griante-Cadenabbia (CO)
DESCRIPTION:In Zeiten wachsender innen- und außenpolitischer Unsicherheiten in Europa und der Welt wäre eine starke Achse Berlin-Paris wichtiger denn je. Wir wollen in diesem Seminar konkret auf die deutsch-französischen Beziehungen und darüber hinaus auch allgemein auf den Stand europäischer Sicherheitspolitik  blicken. Wo kommen wir her und wo gehen wir hin?
UID:
END:VEVENT
END:VCALENDAR