BEGIN:VCALENDAR
PRODID:-//Veranstaltung//EN
VERSION:2.0
CALSCALE:GREGORIAN
BEGIN:VEVENT
DTSTART;VALUE=DATE-TIME:20250311T000000
DTEND;VALUE=DATE-TIME:20250403T235959
SUMMARY:DP Campus sobre Inteligencia Artificial y Política
LOCATION:
DESCRIPTION:Becas disponibles para el nuevo DPCampus! Inteligencia Artificial y el futuro de la política organizado por Diálogo Político Latinoamérica.

Lo que aprenderás:
1. Impacto de la IA en las decisiones políticas.
2. Herramientas para integrar la IA en tu liderazgo.
3. Evaluación del futuro político con IA.

 ¡Lidera con visión y responsabilidad!

Postula hasta el 20 de febrero. Hay 100 becas.
UID:
END:VEVENT
END:VCALENDAR