BEGIN:VCALENDAR
PRODID:-//Veranstaltung//EN
VERSION:2.0
CALSCALE:GREGORIAN
BEGIN:VEVENT
DTSTART;VALUE=DATE-TIME:20250304T000000
DTEND;VALUE=DATE-TIME:20250306T235959
SUMMARY:Local Journalism Conference 2025 and KAS Media Africa Local Journalism Award
LOCATION:
DESCRIPTION:From 4 to 6 March 2025, KAS Media Africa will convene a vital conference in Addis Ababa, Ethiopia, bringing together editors, journalists, and media experts from across Africa and Germany. The event will focus on the role of local newsrooms in election reporting, ensuring fair and transparent coverage in an era of disinformation, political influence, and evolving technology.
UID:
END:VEVENT
END:VCALENDAR