BEGIN:VCALENDAR
PRODID:-//Veranstaltung//EN
VERSION:2.0
CALSCALE:GREGORIAN
BEGIN:VEVENT
DTSTART;VALUE=DATE-TIME:20250414T000000
DTEND;VALUE=DATE-TIME:20250415T235959
SUMMARY:Annual Conference of the International Association of Religion Journalists
LOCATION:
DESCRIPTION:KAS Media Africa will support this year's International Association of Religion Journalists (IARJ) Conference, which will take place at the Aga Khan University in Nairobi, Kenya. This event will provide a platform for journalists and journalism students to exchange best practices, strengthen accuracy in reporting, and build empathy in covering religious topics across Africa.
UID:
END:VEVENT
END:VCALENDAR