BEGIN:VCALENDAR
PRODID:-//Veranstaltung//EN
VERSION:2.0
CALSCALE:GREGORIAN
BEGIN:VEVENT
DTSTART;VALUE=DATE-TIME:20250209T000000
DTEND;VALUE=DATE-TIME:20250209T170000
SUMMARY:DP Campus Inteligencia Artificial
LOCATION:Montevideo
DESCRIPTION:Este taller ofrece las claves para comprender su potencial y los riesgos que debe tener en cuenta todo líder político.
UID:
END:VEVENT
END:VCALENDAR