BEGIN:VCALENDAR
PRODID:-//Veranstaltung//EN
VERSION:2.0
CALSCALE:GREGORIAN
BEGIN:VEVENT
DTSTART;VALUE=DATE-TIME:20250210T170000
DTEND;VALUE=DATE-TIME:20250221T170000
SUMMARY:Virtueller Diplomado-Kurs: Vernetzte Parteien 1-2025
LOCATION:Montevideo
DESCRIPTION:Partidos Conectados ist das Vorzeigeprojekt der Konrad-Adenauer-Stiftung für Jugendbildung in Lateinamerika.
UID:
END:VEVENT
END:VCALENDAR