BEGIN:VCALENDAR
PRODID:-//Veranstaltung//EN
VERSION:2.0
CALSCALE:GREGORIAN
BEGIN:VEVENT
DTSTART;VALUE=DATE-TIME:20250217T173000
DTEND;VALUE=DATE-TIME:20250217T235959
SUMMARY:Presentación del libro "900 días: democracia y resultados" del ex Presidente Guillermo Lasso
LOCATION:
DESCRIPTION:
UID:
END:VEVENT
END:VCALENDAR