BEGIN:VCALENDAR
PRODID:-//Veranstaltung//EN
VERSION:2.0
CALSCALE:GREGORIAN
BEGIN:VEVENT
DTSTART;VALUE=DATE-TIME:20250228T110000
DTEND;VALUE=DATE-TIME:20250228T235959
SUMMARY:After the German Election: Results, Reasons, and Ramifications
LOCATION:
DESCRIPTION:Neuwahlen in Deutschland: Nach dem Scheitern der Ampelkoalition entschiedn die deutschen Wähler über einen neuen Bundestag. Wie sehen die möglichen Mehrheiten aus, und wer wird Deutschlands nächster Kanzler? (Event auf Englisch)
UID:
END:VEVENT
END:VCALENDAR