BEGIN:VCALENDAR
PRODID:-//Veranstaltung//EN
VERSION:2.0
CALSCALE:GREGORIAN
BEGIN:VEVENT
DTSTART;VALUE=DATE-TIME:20250228T110000
DTEND;VALUE=DATE-TIME:20250228T235959
SUMMARY:After the German Election: Results, Reasons and Ramifications
LOCATION:
DESCRIPTION:Snap Elections in Germany: After the collapse of the traffic light coalition, German voters decided on a new Bundestag. What will the possible majorities look like, and who will be Germany’s next chancellor?
UID:
END:VEVENT
END:VCALENDAR