BEGIN:VCALENDAR
PRODID:-//Veranstaltung//EN
VERSION:2.0
CALSCALE:GREGORIAN
BEGIN:VEVENT
DTSTART;VALUE=DATE-TIME:20250306T180000
DTEND;VALUE=DATE-TIME:20250306T193000
SUMMARY:Wie sehen die ländlichen Räume der Zukunft aus?
LOCATION:Alsfeld
DESCRIPTION:Stellen wir uns diese Frage, kommen automatisch Stichworte wie „gleichwertige Lebensverhältnisse“ und „Strukturwandel“, aber auch die Themen Klima-, Umwelt- und Naturschutz in den Sinn.
Konflikte scheinen vorprogrammiert zwischen Erhaltung bzw. Herstellung lebensqualitätswichtiger Infrastruktur, Energieausbau und landwirtschaftlichem Anbau - oder kurz: zwischen Ökonomie und Ökologie.
Doch was genau werden die Herausforderungen sein und wie können wir ihnen begegnen? Darüber wollen mit Ihnen ins Gespräch kommen!
UID:
END:VEVENT
END:VCALENDAR