BEGIN:VCALENDAR
PRODID:-//Veranstaltung//EN
VERSION:2.0
CALSCALE:GREGORIAN
BEGIN:VEVENT
DTSTART;VALUE=DATE-TIME:20250225T180000
DTEND;VALUE=DATE-TIME:20250225T235959
SUMMARY:Was sind die Perspektiven der Ukraine nach drei Jahren Krieg?
LOCATION:
DESCRIPTION:Drei lange Jahre dauert nun schon Russlands Angriffskrieg gegen die Ukraine. Insbesondere mit den Wahlen in den USA, aber auch mit denen in Deutschland könnte es Bewegung geben. Aber in welche Richtung und wer muss welchen Preis bezahlen?
UID:
END:VEVENT
END:VCALENDAR