BEGIN:VCALENDAR
PRODID:-//Veranstaltung//EN
VERSION:2.0
CALSCALE:GREGORIAN
BEGIN:VEVENT
DTSTART;VALUE=DATE-TIME:20250616T000000
DTEND;VALUE=DATE-TIME:20250618T235959
SUMMARY:1945-2025. War and Post-War(s).  Contemporary Perspectives on the post WWII World
LOCATION:
DESCRIPTION:The year 2025 will mark the 80th anniversary of the end of World War II. The brutal destruction of entire states, the tragedy of death, the wounds of survivors and, most importantly, the knowledge of the civilizational breakdown represented by the Holocaust and the Nazi ideology of extermination, have profoundly shaped our world. The complex heritage of WWII and its aftermath is reflected in current crises and conflicts; these conflicts, in turn, alter our historical perspective on the end of the Second World War. The 80th anniversary comes at a critical juncture. We are facing the end of the post-Cold War world order, which marks the end of the liberal and Western vision of the future. The promise of a new – and more just – world seems to have vanished for many generations, while wars and conflicts are at the forefront of our minds, often mobilizing military personnel and economic resources in the West.
UID:
END:VEVENT
END:VCALENDAR