BEGIN:VCALENDAR
PRODID:-//Veranstaltung//EN
VERSION:2.0
CALSCALE:GREGORIAN
BEGIN:VEVENT
DTSTART;VALUE=DATE-TIME:20250307T000000
DTEND;VALUE=DATE-TIME:20250307T235959
SUMMARY:Women`s Empowerment
LOCATION:
DESCRIPTION:Eine Veranstaltung aus Anlass des Internationalen Frauentags am 8. März nur mit Einladung
UID:
END:VEVENT
END:VCALENDAR