BEGIN:VCALENDAR
PRODID:-//Veranstaltung//EN
VERSION:2.0
CALSCALE:GREGORIAN
BEGIN:VEVENT
DTSTART;VALUE=DATE-TIME:20250619T093000
DTEND;VALUE=DATE-TIME:20250619T170000
SUMMARY:Форум за свързаност Бургас 2025
LOCATION:
DESCRIPTION:Форумът за свързаност в Бургас се утвърди като динамична платформа за диалог в Югоизточна Европа, посветена на насърчаването на многопластова свързаност.
UID:
END:VEVENT
END:VCALENDAR