BEGIN:VCALENDAR
PRODID:-//Veranstaltung//EN
VERSION:2.0
CALSCALE:GREGORIAN
BEGIN:VEVENT
DTSTART;VALUE=DATE-TIME:20250619T093000
DTEND;VALUE=DATE-TIME:20250619T170000
SUMMARY:Burgas Connectivity Forum 2025
LOCATION:
DESCRIPTION:Burgas Connectivity Forum is established as dynamic platform for dialog in the Southeast Europe.
It is all about multi-layered connectivity.
UID:
END:VEVENT
END:VCALENDAR