BEGIN:VCALENDAR
PRODID:-//Veranstaltung//EN
VERSION:2.0
CALSCALE:GREGORIAN
BEGIN:VEVENT
DTSTART;VALUE=DATE-TIME:20250625T143000
DTEND;VALUE=DATE-TIME:20250625T184500
SUMMARY:Vision: Innovation!
LOCATION:Berlin
DESCRIPTION:The word ‘innovation’ appears 49 times in the coalition agreement of the new German government. But what does this indicate for the future of Germany and Europe? This is the question we will be addressing on 25 June at ‘Vision: Innovation!’ at the Academy of the Konrad-Adenauer-Stiftung.
UID:
END:VEVENT
END:VCALENDAR