BEGIN:VCALENDAR
PRODID:-//Veranstaltung//EN
VERSION:2.0
CALSCALE:GREGORIAN
BEGIN:VEVENT
DTSTART;VALUE=DATE-TIME:20250221T000000
DTEND;VALUE=DATE-TIME:20250319T235959
SUMMARY:Escuela de Formación Política (EFP) de la KAS
LOCATION:
DESCRIPTION:Si estás decidido a fortalecer tu acción política y tienes entre 18 y 35 años te invitamos a postular a la Escuela de Formación Política - EFP, hasta el 19 de marzo.
UID:
END:VEVENT
END:VCALENDAR