BEGIN:VCALENDAR
PRODID:-//Veranstaltung//EN
VERSION:2.0
CALSCALE:GREGORIAN
BEGIN:VEVENT
DTSTART;VALUE=DATE-TIME:20250226T000000
DTEND;VALUE=DATE-TIME:20250226T235959
SUMMARY:Три години война в Украйна
LOCATION:
DESCRIPTION:Проява, посветена на третата годишнина от началото на войната в Украйна, по време на която ще бъде представена и поръчана от фондацията студия за следвоенното възстановяване на Украйна.
UID:
END:VEVENT
END:VCALENDAR