BEGIN:VCALENDAR
PRODID:-//Veranstaltung//EN
VERSION:2.0
CALSCALE:GREGORIAN
BEGIN:VEVENT
DTSTART;VALUE=DATE-TIME:20250226T000000
DTEND;VALUE=DATE-TIME:20250226T235959
SUMMARY:Drei Jahre Krieg in der Ukraine
LOCATION:
DESCRIPTION:Eine Veranstaltung aus Anlass des dritten Jahrestages des Beginns des Krieges in der Ukraine, bei der auch eine im Auftrag der KAS erstellte wissenschaftliche Studie über den Wiederaufbau der Ukraine präsentiert werden soll.
UID:
END:VEVENT
END:VCALENDAR