BEGIN:VCALENDAR
PRODID:-//Veranstaltung//EN
VERSION:2.0
CALSCALE:GREGORIAN
BEGIN:VEVENT
DTSTART;VALUE=DATE-TIME:20250224T000000
DTEND;VALUE=DATE-TIME:20250228T235959
SUMMARY:Democracy and Political Parties in Fiji / Samoa: Challenges and Opportunities
LOCATION:
DESCRIPTION:
UID:
END:VEVENT
END:VCALENDAR