BEGIN:VCALENDAR
PRODID:-//Veranstaltung//EN
VERSION:2.0
CALSCALE:GREGORIAN
BEGIN:VEVENT
DTSTART;VALUE=DATE-TIME:20250327T193000
DTEND;VALUE=DATE-TIME:20250327T220000
SUMMARY:Demokratie braucht Demokraten
LOCATION:Trier
DESCRIPTION:
UID:
END:VEVENT
END:VCALENDAR