BEGIN:VCALENDAR
PRODID:-//Veranstaltung//EN
VERSION:2.0
CALSCALE:GREGORIAN
BEGIN:VEVENT
DTSTART;VALUE=DATE-TIME:20250226T090000
DTEND;VALUE=DATE-TIME:20250226T110000
SUMMARY:Diálogo Energético: Soluciones para el futuro del Ecuador
LOCATION:
DESCRIPTION:La Fundación Konrad Adenauer en Ecuador y la Cámara Ecuatoriano Alemana (AHK) te invitan a un encuentro clave donde expertos internacionales y líderes empresariales analizarán los desafíos y oportunidades del sector energético, impulsando un camino hacia la sostenibilidad.
UID:
END:VEVENT
END:VCALENDAR