BEGIN:VCALENDAR
PRODID:-//Veranstaltung//EN
VERSION:2.0
CALSCALE:GREGORIAN
BEGIN:VEVENT
DTSTART;VALUE=DATE-TIME:20250410T190000
DTEND;VALUE=DATE-TIME:20250410T203000
SUMMARY:forum digital: Elektronische ID und Wallet
LOCATION:Berlin
DESCRIPTION:Eine elektronische Identifikation (eID) und eine elektronische Brieftasche (Wallet) sind wichtige Bausteine für das Gelingen der Verwaltungsdigitalisierung. Wir diskutieren den aktuellen Stand der Umsetzung und die notwendigen Schritte zur Implementierung.
UID:
END:VEVENT
END:VCALENDAR