BEGIN:VCALENDAR
PRODID:-//Veranstaltung//EN
VERSION:2.0
CALSCALE:GREGORIAN
BEGIN:VEVENT
DTSTART;VALUE=DATE-TIME:20250429T000000
DTEND;VALUE=DATE-TIME:20250430T200000
SUMMARY:Der 8. Mai 1945. Das Ende des Zweiten Weltkriegs und seine Lehren für die Gegenwart
LOCATION:Berlin
DESCRIPTION:
UID:
END:VEVENT
END:VCALENDAR