BEGIN:VCALENDAR
PRODID:-//Veranstaltung//EN
VERSION:2.0
CALSCALE:GREGORIAN
BEGIN:VEVENT
DTSTART;VALUE=DATE-TIME:20250319T000000
DTEND;VALUE=DATE-TIME:20250319T235959
SUMMARY:The Sahel, Russia and the Balkans –
LOCATION:
DESCRIPTION:The Media Programme South East Europe of the Konrad-Adenauer-Stiftung and the Atlantic Club of Bulgaria have the pleasure to invite you to the conference “The Sahel, Russia and the Balkans – Strategic Interests and Challenges”.
UID:
END:VEVENT
END:VCALENDAR