BEGIN:VCALENDAR
PRODID:-//Veranstaltung//EN
VERSION:2.0
CALSCALE:GREGORIAN
BEGIN:VEVENT
DTSTART;VALUE=DATE-TIME:20250328T190000
DTEND;VALUE=DATE-TIME:20250328T210000
SUMMARY:Protokolle der CDU/DA-Fraktion in der frei gewählten Volkskammer der DDR 1990
LOCATION:
DESCRIPTION:
UID:
END:VEVENT
END:VCALENDAR