BEGIN:VCALENDAR
PRODID:-//Veranstaltung//EN
VERSION:2.0
CALSCALE:GREGORIAN
BEGIN:VEVENT
DTSTART;VALUE=DATE-TIME:20251016T103000
DTEND;VALUE=DATE-TIME:20251016T183000
SUMMARY:City. Country. Living space? - The housing congress for everyone
LOCATION:Berlin
DESCRIPTION:More sustainability, less bureaucracy in housing construction, more affordable rents - you can find out how this can be achieved at our housing congress “ Stadt. Land. Wohnraum?”, which will take place in Berlin on October 16, 2025. Together with guests from politics, business, science and associations as well as our partners, we would like to discuss ways out of the housing crisis and learn about innovative solutions from Germany and abroad. Be part of it!
UID:
END:VEVENT
END:VCALENDAR