BEGIN:VCALENDAR
PRODID:-//Veranstaltung//EN
VERSION:2.0
CALSCALE:GREGORIAN
BEGIN:VEVENT
DTSTART;VALUE=DATE-TIME:20251016T103000
DTEND;VALUE=DATE-TIME:20251016T183000
SUMMARY:Stadt. Land. Wohnraum? – Der Wohnkongress für alle
LOCATION:Berlin
DESCRIPTION:Am 8. Oktober 2025 veranstaltet die Konrad-Adenauer-Stiftung in Berlin einen Wohnkongress der sich an ein breites Publikum richtet. Zusammen mit Politik und Wohnungswirtschaft wollen wir gemeinsam Lösungen finden für bezahlbahres und gleichzeitig nachhaltiges Wohnen. Im Fokus stehen die Themen Bürokratie, Nachhaltigkeit, Innovation, aber auch Beispiele aus der internationalen Wohnungspolitik. Ganztägig werden verschiedene Formate wie Panel-Diskussionen, Impulsvorträge, Workshops, Ausstellungen und Pitches von interessanten Start-Ups angeboten, die
UID:
END:VEVENT
END:VCALENDAR