BEGIN:VCALENDAR
PRODID:-//Veranstaltung//EN
VERSION:2.0
CALSCALE:GREGORIAN
BEGIN:VEVENT
DTSTART;VALUE=DATE-TIME:20250313T000000
DTEND;VALUE=DATE-TIME:20250313T235959
SUMMARY:Economic Security in the Indo-Pacific and the IPEF Rules
LOCATION:
DESCRIPTION:The expert roundtable, jointly organized by the Institute of South Asian Studies (ISAS) at the National University of Singapore and the Regional Economic Programme Asia (SOPAS) of the Konrad-Adenauer-Stiftung, focused on economic security in the Indo-Pacific region. Discussions covered the implications of IPEF regulations on supply chains, trade sustainability, and regional economic resilience. Key experts shared insights on rule-based frameworks and their future impact.
UID:
END:VEVENT
END:VCALENDAR