BEGIN:VCALENDAR
PRODID:-//Veranstaltung//EN
VERSION:2.0
CALSCALE:GREGORIAN
BEGIN:VEVENT
DTSTART;VALUE=DATE-TIME:20250430T000000
DTEND;VALUE=DATE-TIME:20250430T235959
SUMMARY:KAS4Security Round Table Environmental Security, Military Leadership and Climate Risks
LOCATION:Ottawa ON K1N 5S6
DESCRIPTION:Get ready for another round table event with KAS Canada! Our aim is to discuss the future risks of the environmental change, climate conflicts and to talk about potential the risk of inaction. The round table will include researchers, experts, attachés and further guests on the topic. 

Please note that this event is by private invitation only, and there are limited seats. 
UID:
END:VEVENT
END:VCALENDAR