BEGIN:VCALENDAR
PRODID:-//Veranstaltung//EN
VERSION:2.0
CALSCALE:GREGORIAN
BEGIN:VEVENT
DTSTART;VALUE=DATE-TIME:20250416T000000
DTEND;VALUE=DATE-TIME:20250416T235959
SUMMARY:Abendveranstaltung in Kooperation mit der Porta Bohemica e.V.
LOCATION:
DESCRIPTION:
UID:
END:VEVENT
END:VCALENDAR