BEGIN:VCALENDAR
PRODID:-//Veranstaltung//EN
VERSION:2.0
CALSCALE:GREGORIAN
BEGIN:VEVENT
DTSTART;VALUE=DATE-TIME:20250620T000000
DTEND;VALUE=DATE-TIME:20250620T151500
SUMMARY:Kiel Security Conference 2025
LOCATION:Kiel
DESCRIPTION:in cooperation with The International Institute for Strategic Studies (IISS) and Hermann-Ehlers-Stiftung (HES)
UID:
END:VEVENT
END:VCALENDAR