BEGIN:VCALENDAR
PRODID:-//Veranstaltung//EN
VERSION:2.0
CALSCALE:GREGORIAN
BEGIN:VEVENT
DTSTART;VALUE=DATE-TIME:20250322T000000
DTEND;VALUE=DATE-TIME:20250322T235959
SUMMARY:Über digitale Grenzen hinweg
LOCATION:Addis Abeba
DESCRIPTION:Die Ethiopian Lawyers Association veranstaltet in Zusammenarbeit mit der Konrad-Adenauer-Stiftung einen Workshop zu den drängenden rechtlichen Herausforderungen, die sich aus dem beschleunigten digitalen Wandel in Äthiopien ergeben.
UID:
END:VEVENT
END:VCALENDAR