BEGIN:VCALENDAR
PRODID:-//Veranstaltung//EN
VERSION:2.0
CALSCALE:GREGORIAN
BEGIN:VEVENT
DTSTART;VALUE=DATE-TIME:20250401T080000
DTEND;VALUE=DATE-TIME:20250401T150000
SUMMARY:Demokratie on Tour
LOCATION:
DESCRIPTION:Eine Schul-Veranstaltung an der Goetheschule
UID:
END:VEVENT
END:VCALENDAR