BEGIN:VCALENDAR
PRODID:-//Veranstaltung//EN
VERSION:2.0
CALSCALE:GREGORIAN
BEGIN:VEVENT
DTSTART;VALUE=DATE-TIME:20250402T083000
DTEND;VALUE=DATE-TIME:20250402T160000
SUMMARY:Erinnern, Verstehen, Begegnen - Jüdisches Leben in Vergangenheit und Gegenwart
LOCATION:Frankfurt am Main
DESCRIPTION:Im Rahmen der Veranstaltung setzen sich die Schülerinnen und Schülern intensiv mit der Geschichte und Gegenwart des jüdischen Lebens auseinander. Ein besonderer Fokus liegt hierbei auf der Sensibilisierung gegenüber den verschiedenen Formen des Antisemitismus. 
UID:
END:VEVENT
END:VCALENDAR