BEGIN:VCALENDAR
PRODID:-//Veranstaltung//EN
VERSION:2.0
CALSCALE:GREGORIAN
BEGIN:VEVENT
DTSTART;VALUE=DATE-TIME:20250402T000000
DTEND;VALUE=DATE-TIME:20250404T235959
SUMMARY:Politische Bildung für Jugendliche in Côte d'Ivoire
LOCATION:Abidjan
DESCRIPTION:
UID:
END:VEVENT
END:VCALENDAR