BEGIN:VCALENDAR
PRODID:-//Veranstaltung//EN
VERSION:2.0
CALSCALE:GREGORIAN
BEGIN:VEVENT
DTSTART;VALUE=DATE-TIME:20250415T000000
DTEND;VALUE=DATE-TIME:20250417T235959
SUMMARY:Programme for political and civic education of youth people in Côte d'Ivoire
LOCATION:
DESCRIPTION:
UID:
END:VEVENT
END:VCALENDAR