BEGIN:VCALENDAR
PRODID:-//Veranstaltung//EN
VERSION:2.0
CALSCALE:GREGORIAN
BEGIN:VEVENT
DTSTART;VALUE=DATE-TIME:20250331T183000
DTEND;VALUE=DATE-TIME:20250331T200000
SUMMARY:La nueva política de defensa de Alemania y Europa
LOCATION:
DESCRIPTION:
UID:
END:VEVENT
END:VCALENDAR