BEGIN:VCALENDAR
PRODID:-//Veranstaltung//EN
VERSION:2.0
CALSCALE:GREGORIAN
BEGIN:VEVENT
DTSTART;VALUE=DATE-TIME:20250512T180000
DTEND;VALUE=DATE-TIME:20250512T200000
SUMMARY:60 Jahre Deutsch-Israelische Beziehungen
LOCATION:
DESCRIPTION:Weitblick, Mut und Durchsetzungsvermögen. Damit begründeten Konrad Adenauer und David Ben-Gurion am 12. Mai 1965 das deutsch-israelische Verhältnis. Heute ist daraus eine kraftvolle Partnerschaft erwachsen. Besonders in der Sicherheitspolitik.
UID:
END:VEVENT
END:VCALENDAR