BEGIN:VCALENDAR
PRODID:-//Veranstaltung//EN
VERSION:2.0
CALSCALE:GREGORIAN
BEGIN:VEVENT
DTSTART;VALUE=DATE-TIME:20250507T120000
DTEND;VALUE=DATE-TIME:20250507T130000
SUMMARY:Wohnen und Finanzierung. Wie funktioniert das Erfolgsmodell “Hessengeld”?
LOCATION:
DESCRIPTION:Im zweiten Teil der digitalen Veranstaltungsreihe "Stadt. Land. Wohnraum. Gemeinsam Zukunft bauen" liegt der Fokus auf dem Hessengeld-Programm, das den erstmaligen Erwerb von selbstgenutzten Wohnimmobilien durch Zuschüsse zur Grunderwerbsteuer fördert. Heiko Kasseckert (MdL) wird in seinem 30-minütigen Input die Entstehung und Wirkung des Programms vorstellen. Anschließend folgt eine offene Diskussion mit den Teilnehmenden.
UID:
END:VEVENT
END:VCALENDAR