BEGIN:VCALENDAR
PRODID:-//Veranstaltung//EN
VERSION:2.0
CALSCALE:GREGORIAN
BEGIN:VEVENT
DTSTART;VALUE=DATE-TIME:20250515T190000
DTEND;VALUE=DATE-TIME:20250515T203000
SUMMARY:forum digital: ePA für alle?
LOCATION:Berlin
DESCRIPTION:In diesem Jahr soll die elektronische Patientenakte ausgerollt werden. Nicht nur für die Versicherten werden damit viele Mehrwerte verbunden, sondern auch für Gesundheitswesen und Forschung sollen daraus Vorteile erwachsen. Zugleich gibt es anhaltende Bedenken zur Sicherheit wie auch zum Umgang mit den sensiblen Patientendaten.
UID:
END:VEVENT
END:VCALENDAR