BEGIN:VCALENDAR
PRODID:-//Veranstaltung//EN
VERSION:2.0
CALSCALE:GREGORIAN
BEGIN:VEVENT
DTSTART;VALUE=DATE-TIME:20250429T090000
DTEND;VALUE=DATE-TIME:20250429T170000
SUMMARY:Greenland, NATO and the Future of the North
LOCATION:
DESCRIPTION:
UID:
END:VEVENT
END:VCALENDAR