BEGIN:VCALENDAR
PRODID:-//Veranstaltung//EN
VERSION:2.0
CALSCALE:GREGORIAN
BEGIN:VEVENT
DTSTART;VALUE=DATE-TIME:20250529T000000
DTEND;VALUE=DATE-TIME:20250529T235959
SUMMARY:People of Justice Cluj-Napoca
LOCATION:
DESCRIPTION:Am 29. Mai 2025 fand im Kinotheater „Florin Piersic“ in Cluj-Napoca (Klausenburg) unsere 13. People of Justice Storytelling Show statt, die mit 729 Personen den bisherigen Besucherrekord aufgestellt hat. Die Veranstaltung bot Geschichten, Filme, Poesie und Musik zu den Themen Gerechtigkeit und bürgerschaftliches Engagement. Zahlreiche Gäste, darunter der Kriminologe Vlad Zaha und die Richterin Bianca Poptile, sprachen über Sucht, Minderheitenrechte und Kampf gegen Desinformation und für die Demokratie. Die 2019 von uns initiierte Show schafft Hoffnung und Mut in unsicheren Zeiten. Im Herbst 2025 bringen wir sie erneut nach Bukarest und in andere rumänische Städte.
UID:
END:VEVENT
END:VCALENDAR