BEGIN:VCALENDAR
PRODID:-//Veranstaltung//EN
VERSION:2.0
CALSCALE:GREGORIAN
BEGIN:VEVENT
DTSTART;VALUE=DATE-TIME:20250411T000000
DTEND;VALUE=DATE-TIME:20250413T235959
SUMMARY:Politische Akademie 2025
LOCATION:Krushevo
DESCRIPTION:Die KAS organisiert in Zusammenarbeit mit dem Parteiforschungs- und Analysezentrum „Ljubisha Georgievski“ die Politische Akademie 2025 zum Thema „Stärkung der Kapazitäten der kommunalen Selbstverwaltung“, die vom 11. bis 13. April in Krushevo stattfinden wird.
UID:
END:VEVENT
END:VCALENDAR